BEGIN:VCALENDAR
VERSION:2.0
PRODID:-//Baie des Chaleurs - Bonheur - ECPv6.15.17.1//NONSGML v1.0//EN
CALSCALE:GREGORIAN
METHOD:PUBLISH
X-ORIGINAL-URL:https://baiedeschaleurs.com
X-WR-CALDESC:Évènements pour Baie des Chaleurs - Bonheur
REFRESH-INTERVAL;VALUE=DURATION:PT1H
X-Robots-Tag:noindex
X-PUBLISHED-TTL:PT1H
BEGIN:VTIMEZONE
TZID:America/Toronto
BEGIN:DAYLIGHT
TZOFFSETFROM:-0500
TZOFFSETTO:-0400
TZNAME:EDT
DTSTART:20250309T070000
END:DAYLIGHT
BEGIN:STANDARD
TZOFFSETFROM:-0400
TZOFFSETTO:-0500
TZNAME:EST
DTSTART:20251102T060000
END:STANDARD
BEGIN:DAYLIGHT
TZOFFSETFROM:-0500
TZOFFSETTO:-0400
TZNAME:EDT
DTSTART:20260308T070000
END:DAYLIGHT
BEGIN:STANDARD
TZOFFSETFROM:-0400
TZOFFSETTO:-0500
TZNAME:EST
DTSTART:20261101T060000
END:STANDARD
BEGIN:DAYLIGHT
TZOFFSETFROM:-0500
TZOFFSETTO:-0400
TZNAME:EDT
DTSTART:20270314T070000
END:DAYLIGHT
BEGIN:STANDARD
TZOFFSETFROM:-0400
TZOFFSETTO:-0500
TZNAME:EST
DTSTART:20271107T060000
END:STANDARD
END:VTIMEZONE
BEGIN:VEVENT
DTSTART;TZID=America/Toronto:20260430T090000
DTEND;TZID=America/Toronto:20260430T103000
DTSTAMP:20260422T151146
CREATED:20260421T184654Z
LAST-MODIFIED:20260421T184654Z
UID:10000258-1777539600-1777545000@baiedeschaleurs.com
SUMMARY:📖 Poésie sur mesure avec Sébastien Bérubé
DESCRIPTION:Venez profiter des délices de la boulangerie artisanale la Pétrie en vous faisant offrir un poème sur mesure écrit pour vous par Sébastien Bérubé\, poète prolifique basé au Nouveau Brunswick. Une occasion unique et ludique d’entrer en contact avec son univers créatif ! \nPrésenté par la boulangerie artisanale La Pétrie
URL:https://baiedeschaleurs.com/evenement/%f0%9f%93%96-poesie-sur-mesure-avec-sebastien-berube/
LOCATION:La Pétrie\, 128\, av. de Grand Pré\, Bonaventure\, Quebec\, G0c1E0\, Canada
CATEGORIES:Activité ludique,Expérience
ATTACH;FMTTYPE=image/jpeg:https://baiedeschaleurs.com/wp-content/uploads/2026/04/Salon-du-livre-bona-2026.jpg
GEO:48.0468602;-65.4915177
X-APPLE-STRUCTURED-LOCATION;VALUE=URI;X-ADDRESS=La Pétrie 128 av. de Grand Pré Bonaventure Quebec G0c1E0 Canada;X-APPLE-RADIUS=500;X-TITLE=128\, av. de Grand Pré:geo:-65.4915177,48.0468602
END:VEVENT
END:VCALENDAR