BEGIN:VCALENDAR
VERSION:2.0
PRODID:-//Baie des Chaleurs - Bonheur - ECPv6.15.17.1//NONSGML v1.0//EN
CALSCALE:GREGORIAN
METHOD:PUBLISH
X-WR-CALNAME:Baie des Chaleurs - Bonheur
X-ORIGINAL-URL:https://baiedeschaleurs.com
X-WR-CALDESC:Évènements pour Baie des Chaleurs - Bonheur
REFRESH-INTERVAL;VALUE=DURATION:PT1H
X-Robots-Tag:noindex
X-PUBLISHED-TTL:PT1H
BEGIN:VTIMEZONE
TZID:America/Toronto
BEGIN:DAYLIGHT
TZOFFSETFROM:-0500
TZOFFSETTO:-0400
TZNAME:EDT
DTSTART:20250309T070000
END:DAYLIGHT
BEGIN:STANDARD
TZOFFSETFROM:-0400
TZOFFSETTO:-0500
TZNAME:EST
DTSTART:20251102T060000
END:STANDARD
BEGIN:DAYLIGHT
TZOFFSETFROM:-0500
TZOFFSETTO:-0400
TZNAME:EDT
DTSTART:20260308T070000
END:DAYLIGHT
BEGIN:STANDARD
TZOFFSETFROM:-0400
TZOFFSETTO:-0500
TZNAME:EST
DTSTART:20261101T060000
END:STANDARD
BEGIN:DAYLIGHT
TZOFFSETFROM:-0500
TZOFFSETTO:-0400
TZNAME:EDT
DTSTART:20270314T070000
END:DAYLIGHT
BEGIN:STANDARD
TZOFFSETFROM:-0400
TZOFFSETTO:-0500
TZNAME:EST
DTSTART:20271107T060000
END:STANDARD
END:VTIMEZONE
BEGIN:VEVENT
DTSTART;TZID=America/Toronto:20260429T170000
DTEND;TZID=America/Toronto:20260429T190000
DTSTAMP:20260422T182812
CREATED:20260421T182833Z
LAST-MODIFIED:20260421T182833Z
UID:10000253-1777482000-1777489200@baiedeschaleurs.com
SUMMARY:📖 Lancement : Un oiseau dans la cheminée ─ Hélène Poirier
DESCRIPTION:Le lancement aura lieu à la salle Suzette-Arsenault\, à l’hôtel de ville de Bonaventure. \nLes blessures de l’âme peuvent-elles se transmettre de génération en génération ? A travers cette autofiction bouleversante\, l’autrice retrace l’histoire d’une lignée marquée par le silence\, la honte et la quête de sens. De « La Grande Noirceur » à la Révolution tranquille et jusqu’à la pandémie de Covid-19\, se dévoile un Québec rural en mutation\, témoin d’une mémoire longtemps enfouie… \nJoignez-vous à nous pour un lancement convivial tout en musique en compagnie d’Hélène Poirier et animé par Line Boily\, Coordonnatrice à la bibliothèque Françoise Bujold et développement culturel à la ville de Bonaventure. \nMusicien: Martin Henry
URL:https://baiedeschaleurs.com/evenement/%f0%9f%93%96-lancement-un-oiseau-dans-la-cheminee-%e2%94%80-helene-poirier/
LOCATION:Hôtel de ville de Bonaventure\, 127\, Av. de Louisbourg\, Bonaventure\, Quebec\, G0c1E0\, Canada
CATEGORIES:Exposition
ATTACH;FMTTYPE=image/jpeg:https://baiedeschaleurs.com/wp-content/uploads/2026/04/Salon-du-livre-bona-2026.jpg
GEO:48.0498132;-65.4939923
X-APPLE-STRUCTURED-LOCATION;VALUE=URI;X-ADDRESS=Hôtel de ville de Bonaventure 127 Av. de Louisbourg Bonaventure Quebec G0c1E0 Canada;X-APPLE-RADIUS=500;X-TITLE=127\, Av. de Louisbourg:geo:-65.4939923,48.0498132
END:VEVENT
END:VCALENDAR