BEGIN:VCALENDAR
VERSION:2.0
PRODID:-//Baie des Chaleurs - Bonheur - ECPv6.15.17.1//NONSGML v1.0//EN
CALSCALE:GREGORIAN
METHOD:PUBLISH
X-WR-CALNAME:Baie des Chaleurs - Bonheur
X-ORIGINAL-URL:https://baiedeschaleurs.com
X-WR-CALDESC:Évènements pour Baie des Chaleurs - Bonheur
REFRESH-INTERVAL;VALUE=DURATION:PT1H
X-Robots-Tag:noindex
X-PUBLISHED-TTL:PT1H
BEGIN:VTIMEZONE
TZID:America/Toronto
BEGIN:DAYLIGHT
TZOFFSETFROM:-0500
TZOFFSETTO:-0400
TZNAME:EDT
DTSTART:20250309T070000
END:DAYLIGHT
BEGIN:STANDARD
TZOFFSETFROM:-0400
TZOFFSETTO:-0500
TZNAME:EST
DTSTART:20251102T060000
END:STANDARD
BEGIN:DAYLIGHT
TZOFFSETFROM:-0500
TZOFFSETTO:-0400
TZNAME:EDT
DTSTART:20260308T070000
END:DAYLIGHT
BEGIN:STANDARD
TZOFFSETFROM:-0400
TZOFFSETTO:-0500
TZNAME:EST
DTSTART:20261101T060000
END:STANDARD
BEGIN:DAYLIGHT
TZOFFSETFROM:-0500
TZOFFSETTO:-0400
TZNAME:EDT
DTSTART:20270314T070000
END:DAYLIGHT
BEGIN:STANDARD
TZOFFSETFROM:-0400
TZOFFSETTO:-0500
TZNAME:EST
DTSTART:20271107T060000
END:STANDARD
END:VTIMEZONE
BEGIN:VEVENT
DTSTART;TZID=America/Toronto:20260501T140000
DTEND;TZID=America/Toronto:20260501T153000
DTSTAMP:20260422T152420
CREATED:20260421T190506Z
LAST-MODIFIED:20260421T190506Z
UID:10000260-1777644000-1777649400@baiedeschaleurs.com
SUMMARY:📖 Poésie sur mesure avec Sébastien Bérubé
DESCRIPTION:Venez profiter des délices de la Brûlerie du Quai en vous faisant offrir un poème sur mesure écrit pour vous par Sébastien Bérubé\, poète prolifique basé au Nouveau Brunswick. Une occasion unique et ludique d’entrer en contact avec son univers créatif ! \n  \nPrésenté par la boulangerie artisanale La Pétrie
URL:https://baiedeschaleurs.com/evenement/%f0%9f%93%96-poesie-sur-mesure-avec-sebastien-berube-2/
LOCATION:Brûlerie du Quai + Chaleur B\, 200\, rue du Quai\, Carleton-sur-Mer\, Quebec\, G0c1J0\, Canada
CATEGORIES:Expérience
ATTACH;FMTTYPE=image/jpeg:https://baiedeschaleurs.com/wp-content/uploads/2026/04/Salon-du-livre-bona-2026.jpg
GEO:48.1054725;-66.1322823
X-APPLE-STRUCTURED-LOCATION;VALUE=URI;X-ADDRESS=Brûlerie du Quai + Chaleur B 200 rue du Quai Carleton-sur-Mer Quebec G0c1J0 Canada;X-APPLE-RADIUS=500;X-TITLE=200\, rue du Quai:geo:-66.1322823,48.1054725
END:VEVENT
END:VCALENDAR