BEGIN:VCALENDAR
VERSION:2.0
PRODID:-//Baie des Chaleurs - Bonheur - ECPv6.15.17.1//NONSGML v1.0//EN
CALSCALE:GREGORIAN
METHOD:PUBLISH
X-WR-CALNAME:Baie des Chaleurs - Bonheur
X-ORIGINAL-URL:https://baiedeschaleurs.com
X-WR-CALDESC:Évènements pour Baie des Chaleurs - Bonheur
REFRESH-INTERVAL;VALUE=DURATION:PT1H
X-Robots-Tag:noindex
X-PUBLISHED-TTL:PT1H
BEGIN:VTIMEZONE
TZID:America/Toronto
BEGIN:DAYLIGHT
TZOFFSETFROM:-0500
TZOFFSETTO:-0400
TZNAME:EDT
DTSTART:20250309T070000
END:DAYLIGHT
BEGIN:STANDARD
TZOFFSETFROM:-0400
TZOFFSETTO:-0500
TZNAME:EST
DTSTART:20251102T060000
END:STANDARD
BEGIN:DAYLIGHT
TZOFFSETFROM:-0500
TZOFFSETTO:-0400
TZNAME:EDT
DTSTART:20260308T070000
END:DAYLIGHT
BEGIN:STANDARD
TZOFFSETFROM:-0400
TZOFFSETTO:-0500
TZNAME:EST
DTSTART:20261101T060000
END:STANDARD
BEGIN:DAYLIGHT
TZOFFSETFROM:-0500
TZOFFSETTO:-0400
TZNAME:EDT
DTSTART:20270314T070000
END:DAYLIGHT
BEGIN:STANDARD
TZOFFSETFROM:-0400
TZOFFSETTO:-0500
TZNAME:EST
DTSTART:20271107T060000
END:STANDARD
END:VTIMEZONE
BEGIN:VEVENT
DTSTART;TZID=America/Toronto:20260430T130000
DTEND;TZID=America/Toronto:20260430T150000
DTSTAMP:20260422T152851
CREATED:20260421T190305Z
LAST-MODIFIED:20260421T190305Z
UID:10000259-1777554000-1777561200@baiedeschaleurs.com
SUMMARY:📖 Atelier d’écriture avec Fanie Demeule
DESCRIPTION:Venez vous initier à l’écriture ou perfectionner votre plume avec Fanie Demeule\, autrice de Du ventre des montagnes\, Dents de fortune et de plusieurs autres romans\, dans une atmosphère décontractée. \nMatériel : Papier\, crayon ou ordinateur portable \nPlaces limitées\, non accessible en fauteuil roulant \nInscrivez-vous ici
URL:https://baiedeschaleurs.com/evenement/%f0%9f%93%96-atelier-decriture-avec-fanie-demeule/
LOCATION:Bibliothèque Françoise-Bujold\, 95A\, Av. de Port Royal\, Bonaventure\, QC\, Canada
CATEGORIES:Atelier
ATTACH;FMTTYPE=image/jpeg:https://baiedeschaleurs.com/wp-content/uploads/2026/04/Salon-du-livre-bona-2026.jpg
GEO:48.167234;-65.8719465
X-APPLE-STRUCTURED-LOCATION;VALUE=URI;X-ADDRESS=Bibliothèque Françoise-Bujold 95A Av. de Port Royal Bonaventure QC Canada;X-APPLE-RADIUS=500;X-TITLE=95A\, Av. de Port Royal:geo:-65.8719465,48.167234
END:VEVENT
END:VCALENDAR