BEGIN:VCALENDAR
VERSION:2.0
PRODID:-//Baie des Chaleurs - Bonheur - ECPv6.15.17.1//NONSGML v1.0//EN
CALSCALE:GREGORIAN
METHOD:PUBLISH
X-WR-CALNAME:Baie des Chaleurs - Bonheur
X-ORIGINAL-URL:https://baiedeschaleurs.com
X-WR-CALDESC:Évènements pour Baie des Chaleurs - Bonheur
REFRESH-INTERVAL;VALUE=DURATION:PT1H
X-Robots-Tag:noindex
X-PUBLISHED-TTL:PT1H
BEGIN:VTIMEZONE
TZID:America/Toronto
BEGIN:DAYLIGHT
TZOFFSETFROM:-0500
TZOFFSETTO:-0400
TZNAME:EDT
DTSTART:20250309T070000
END:DAYLIGHT
BEGIN:STANDARD
TZOFFSETFROM:-0400
TZOFFSETTO:-0500
TZNAME:EST
DTSTART:20251102T060000
END:STANDARD
BEGIN:DAYLIGHT
TZOFFSETFROM:-0500
TZOFFSETTO:-0400
TZNAME:EDT
DTSTART:20260308T070000
END:DAYLIGHT
BEGIN:STANDARD
TZOFFSETFROM:-0400
TZOFFSETTO:-0500
TZNAME:EST
DTSTART:20261101T060000
END:STANDARD
BEGIN:DAYLIGHT
TZOFFSETFROM:-0500
TZOFFSETTO:-0400
TZNAME:EDT
DTSTART:20270314T070000
END:DAYLIGHT
BEGIN:STANDARD
TZOFFSETFROM:-0400
TZOFFSETTO:-0500
TZNAME:EST
DTSTART:20271107T060000
END:STANDARD
END:VTIMEZONE
BEGIN:VEVENT
DTSTART;TZID=America/Toronto:20260426T133000
DTEND;TZID=America/Toronto:20260426T163000
DTSTAMP:20260422T133053
CREATED:20260421T181446Z
LAST-MODIFIED:20260421T181446Z
UID:10000250-1777210200-1777221000@baiedeschaleurs.com
SUMMARY:Atelier | Pour les plaisirs du texte avec Marie-Christine Bernard
DESCRIPTION:L’écrivaine Marie-Christine Bernard présente les différents courants littéraires marquants au fil des siècles avec une approche ludique et participative. Pas d’évaluation\, pas de note\, pas de bulletin… juste du plaisir!Entrée libre sans inscription au préalable.15$ par personne (durée: 3 h)
URL:https://baiedeschaleurs.com/evenement/atelier-pour-les-plaisirs-du-texte-avec-marie-christine-bernard/2026-04-26/
LOCATION:Bibliothèque Gabrielle-Bernard-Dubé\, 774\, boul. Perron\, Carleton-sur-Mer\, QC\, Canada
CATEGORIES:Atelier
ATTACH;FMTTYPE=image/jpeg:https://baiedeschaleurs.com/wp-content/uploads/2026/04/657792010_1410621137770455_6264898534313863850_n.jpg
GEO:48.1016809;66.110213
X-APPLE-STRUCTURED-LOCATION;VALUE=URI;X-ADDRESS=Bibliothèque Gabrielle-Bernard-Dubé 774 boul. Perron Carleton-sur-Mer QC Canada;X-APPLE-RADIUS=500;X-TITLE=774\, boul. Perron:geo:66.110213,48.1016809
END:VEVENT
BEGIN:VEVENT
DTSTART;TZID=America/Toronto:20260503T133000
DTEND;TZID=America/Toronto:20260503T163000
DTSTAMP:20260422T133053
CREATED:20260421T181446Z
LAST-MODIFIED:20260421T181446Z
UID:10000251-1777815000-1777825800@baiedeschaleurs.com
SUMMARY:Atelier | Pour les plaisirs du texte avec Marie-Christine Bernard
DESCRIPTION:L’écrivaine Marie-Christine Bernard présente les différents courants littéraires marquants au fil des siècles avec une approche ludique et participative. Pas d’évaluation\, pas de note\, pas de bulletin… juste du plaisir!Entrée libre sans inscription au préalable.15$ par personne (durée: 3 h)
URL:https://baiedeschaleurs.com/evenement/atelier-pour-les-plaisirs-du-texte-avec-marie-christine-bernard/2026-05-03/
LOCATION:Bibliothèque Gabrielle-Bernard-Dubé\, 774\, boul. Perron\, Carleton-sur-Mer\, QC\, Canada
CATEGORIES:Atelier
ATTACH;FMTTYPE=image/jpeg:https://baiedeschaleurs.com/wp-content/uploads/2026/04/657792010_1410621137770455_6264898534313863850_n.jpg
GEO:48.1016809;66.110213
X-APPLE-STRUCTURED-LOCATION;VALUE=URI;X-ADDRESS=Bibliothèque Gabrielle-Bernard-Dubé 774 boul. Perron Carleton-sur-Mer QC Canada;X-APPLE-RADIUS=500;X-TITLE=774\, boul. Perron:geo:66.110213,48.1016809
END:VEVENT
END:VCALENDAR