BEGIN:VCALENDAR
VERSION:2.0
PRODID:-//Baie des Chaleurs - Bonheur - ECPv6.15.17.1//NONSGML v1.0//EN
CALSCALE:GREGORIAN
METHOD:PUBLISH
X-WR-CALNAME:Baie des Chaleurs - Bonheur
X-ORIGINAL-URL:https://baiedeschaleurs.com
X-WR-CALDESC:Évènements pour Baie des Chaleurs - Bonheur
REFRESH-INTERVAL;VALUE=DURATION:PT1H
X-Robots-Tag:noindex
X-PUBLISHED-TTL:PT1H
BEGIN:VTIMEZONE
TZID:America/Toronto
BEGIN:DAYLIGHT
TZOFFSETFROM:-0500
TZOFFSETTO:-0400
TZNAME:EDT
DTSTART:20250309T070000
END:DAYLIGHT
BEGIN:STANDARD
TZOFFSETFROM:-0400
TZOFFSETTO:-0500
TZNAME:EST
DTSTART:20251102T060000
END:STANDARD
BEGIN:DAYLIGHT
TZOFFSETFROM:-0500
TZOFFSETTO:-0400
TZNAME:EDT
DTSTART:20260308T070000
END:DAYLIGHT
BEGIN:STANDARD
TZOFFSETFROM:-0400
TZOFFSETTO:-0500
TZNAME:EST
DTSTART:20261101T060000
END:STANDARD
BEGIN:DAYLIGHT
TZOFFSETFROM:-0500
TZOFFSETTO:-0400
TZNAME:EDT
DTSTART:20270314T070000
END:DAYLIGHT
BEGIN:STANDARD
TZOFFSETFROM:-0400
TZOFFSETTO:-0500
TZNAME:EST
DTSTART:20271107T060000
END:STANDARD
END:VTIMEZONE
BEGIN:VEVENT
DTSTART;TZID=America/Toronto:20260426T180000
DTEND;TZID=America/Toronto:20260426T200000
DTSTAMP:20260422T184557
CREATED:20260421T180934Z
LAST-MODIFIED:20260421T180934Z
UID:10000249-1777226400-1777233600@baiedeschaleurs.com
SUMMARY:Diffusion Match 4 Canadiens VS Lightning
DESCRIPTION:Le 4e match Canadiens VS Lightning des séries éliminatoires de la LNH diffusé sur écran géant au Naufrageur.\nCuisine ouverte de 18 h à 20 h. \nAmbiance survoltée garantie.
URL:https://baiedeschaleurs.com/evenement/diffusion-match-4-canadiens-vs-lightning/
LOCATION:Microbrasserie Le Naufrageur\, 586\, boul. Perron\, Carleton-sur-Mer\, QC\, Canada
CATEGORIES:Projection
ATTACH;FMTTYPE=image/jpeg:https://baiedeschaleurs.com/wp-content/uploads/2026/04/678238205_1384981943670468_846097362369778880_n.jpg
GEO:48.1040408;66.1255317
X-APPLE-STRUCTURED-LOCATION;VALUE=URI;X-ADDRESS=Microbrasserie Le Naufrageur 586 boul. Perron Carleton-sur-Mer QC Canada;X-APPLE-RADIUS=500;X-TITLE=586\, boul. Perron:geo:66.1255317,48.1040408
END:VEVENT
END:VCALENDAR