BEGIN:VCALENDAR
VERSION:2.0
PRODID:-//Baie des Chaleurs - Bonheur - ECPv6.15.17.1//NONSGML v1.0//EN
CALSCALE:GREGORIAN
METHOD:PUBLISH
X-ORIGINAL-URL:https://baiedeschaleurs.com
X-WR-CALDESC:Évènements pour Baie des Chaleurs - Bonheur
REFRESH-INTERVAL;VALUE=DURATION:PT1H
X-Robots-Tag:noindex
X-PUBLISHED-TTL:PT1H
BEGIN:VTIMEZONE
TZID:America/Toronto
BEGIN:DAYLIGHT
TZOFFSETFROM:-0500
TZOFFSETTO:-0400
TZNAME:EDT
DTSTART:20250309T070000
END:DAYLIGHT
BEGIN:STANDARD
TZOFFSETFROM:-0400
TZOFFSETTO:-0500
TZNAME:EST
DTSTART:20251102T060000
END:STANDARD
BEGIN:DAYLIGHT
TZOFFSETFROM:-0500
TZOFFSETTO:-0400
TZNAME:EDT
DTSTART:20260308T070000
END:DAYLIGHT
BEGIN:STANDARD
TZOFFSETFROM:-0400
TZOFFSETTO:-0500
TZNAME:EST
DTSTART:20261101T060000
END:STANDARD
BEGIN:DAYLIGHT
TZOFFSETFROM:-0500
TZOFFSETTO:-0400
TZNAME:EDT
DTSTART:20270314T070000
END:DAYLIGHT
BEGIN:STANDARD
TZOFFSETFROM:-0400
TZOFFSETTO:-0500
TZNAME:EST
DTSTART:20271107T060000
END:STANDARD
END:VTIMEZONE
BEGIN:VEVENT
DTSTART;TZID=America/Toronto:20260523T200000
DTEND;TZID=America/Toronto:20260523T223000
DTSTAMP:20260420T062106
CREATED:20251215T200910Z
LAST-MODIFIED:20251217T170137Z
UID:10000035-1779566400-1779575400@baiedeschaleurs.com
SUMMARY:Le Che-nous show 5 ─ Soundtrack de films
DESCRIPTION:Nos talents gaspésiens sont de retour pour vous faire passer une autre soirée mémorable aux sons des plus grands succès musicaux du cinéma\, tirés de films tels que Back to the future\, Grease\, Flashdance\, Armageddon\, 8 miles\, l’univers de Tanrantino\, et plus encore! Mettant en vedette : Stéphanie Gauthier\, Mlou\, Jo-Any Martel (Jam)\, Martin Hogan et plus encore!
URL:https://baiedeschaleurs.com/evenement/le-che-nous-show-5-%e2%94%80-soundtrack-de-films/
LOCATION:Salles de spectacles régionale Desjardins de New Richmond\, 99\, place Suzanne-Guité\, New Richmond\, QC\, G0C 2B0\, Canada
CATEGORIES:Spectacle
ATTACH;FMTTYPE=image/jpeg:https://baiedeschaleurs.com/wp-content/uploads/2025/12/web2026_05_23_Le_Che_Nous_Show_5.jpg
GEO:48.1621752;65.864247
X-APPLE-STRUCTURED-LOCATION;VALUE=URI;X-ADDRESS=Salles de spectacles régionale Desjardins de New Richmond 99 place Suzanne-Guité New Richmond QC G0C 2B0 Canada;X-APPLE-RADIUS=500;X-TITLE=99\, place Suzanne-Guité:geo:65.864247,48.1621752
END:VEVENT
BEGIN:VEVENT
DTSTART;TZID=America/Toronto:20260523T200000
DTEND;TZID=America/Toronto:20260523T230000
DTSTAMP:20260420T062106
CREATED:20251217T185706Z
LAST-MODIFIED:20260403T114453Z
UID:10000067-1779566400-1779577200@baiedeschaleurs.com
SUMMARY:Joe Robicho ─ Les mots m'ont manqué
DESCRIPTION:Étoile montante de la musique crassique folk Sainte-Louisienne\, Joe Robicho propose des textes réfléchis sur des musiques percutantes depuis 2015. Maintenant en one-man band!
URL:https://baiedeschaleurs.com/evenement/joe-robicho-%e2%94%80-les-mots-mont-manque/
LOCATION:Maison de la culture de Nouvelle\, 150\, route 132\, Nouvelle\, QC\, Canada
CATEGORIES:Spectacle
ATTACH;FMTTYPE=image/png:https://baiedeschaleurs.com/wp-content/uploads/2025/12/Joe-robicho-Nvlle.png
GEO:48.1357877;-66.3124702
X-APPLE-STRUCTURED-LOCATION;VALUE=URI;X-ADDRESS=Maison de la culture de Nouvelle 150 route 132 Nouvelle QC Canada;X-APPLE-RADIUS=500;X-TITLE=150\, route 132:geo:-66.3124702,48.1357877
END:VEVENT
END:VCALENDAR