BEGIN:VCALENDAR
VERSION:2.0
PRODID:-//Baie des Chaleurs - Bonheur - ECPv6.15.17.1//NONSGML v1.0//EN
CALSCALE:GREGORIAN
METHOD:PUBLISH
X-WR-CALNAME:Baie des Chaleurs - Bonheur
X-ORIGINAL-URL:https://baiedeschaleurs.com
X-WR-CALDESC:Évènements pour Baie des Chaleurs - Bonheur
REFRESH-INTERVAL;VALUE=DURATION:PT1H
X-Robots-Tag:noindex
X-PUBLISHED-TTL:PT1H
BEGIN:VTIMEZONE
TZID:America/Toronto
BEGIN:DAYLIGHT
TZOFFSETFROM:-0500
TZOFFSETTO:-0400
TZNAME:EDT
DTSTART:20250309T070000
END:DAYLIGHT
BEGIN:STANDARD
TZOFFSETFROM:-0400
TZOFFSETTO:-0500
TZNAME:EST
DTSTART:20251102T060000
END:STANDARD
BEGIN:DAYLIGHT
TZOFFSETFROM:-0500
TZOFFSETTO:-0400
TZNAME:EDT
DTSTART:20260308T070000
END:DAYLIGHT
BEGIN:STANDARD
TZOFFSETFROM:-0400
TZOFFSETTO:-0500
TZNAME:EST
DTSTART:20261101T060000
END:STANDARD
BEGIN:DAYLIGHT
TZOFFSETFROM:-0500
TZOFFSETTO:-0400
TZNAME:EDT
DTSTART:20270314T070000
END:DAYLIGHT
BEGIN:STANDARD
TZOFFSETFROM:-0400
TZOFFSETTO:-0500
TZNAME:EST
DTSTART:20271107T060000
END:STANDARD
END:VTIMEZONE
BEGIN:VEVENT
DTSTART;TZID=America/Toronto:20260501T130000
DTEND;TZID=America/Toronto:20260501T143000
DTSTAMP:20260422T184924
CREATED:20260421T190811Z
LAST-MODIFIED:20260421T190811Z
UID:10000261-1777640400-1777645800@baiedeschaleurs.com
SUMMARY:📖 Tricot-Thé avec Karine Leblanc
DESCRIPTION:Toute la population ainsi que les Cercles de fermières de la Baie-des-Chaleurs sont invités à une rencontre avec l’artiste Karine Leblanc\, une artiste gaspésienne multidisciplinaire qui œuvre en marionnette\, arts textiles et en art de la performance. \nLa formule du tricot-thé est un échange informel au cours de laquelle les participantes et participants amènent leurs travaux en cours. Celles et ceux qui le désirent pourront prendre la parole\, présenter une technique qu’elles ont apprises et/ou créer sur place tout en écoutant les présentations. L’invitée Karine Leblanc fera une mini-démonstration d’une technique. \nPlaces limitées\, inscriptions demandée \nInscrivez-vous ici \n  \nKarine Leblanc a créé les costumes\, le décor et les marionnettes de la pièce du Théâtre de la Petite Marée qui sera présentée cet été à Bonaventure\, intitulée Le chemin de la montagne inspiré de l’oeuvre du même nom de Marianne Dubuc. \nQuelques femmes du Cercle des fermières de Grande-Rivière ont quant à elles réalisées une courte-pointe qui fera partie aussi de la pièce de théâtre.
URL:https://baiedeschaleurs.com/evenement/%f0%9f%93%96-tricot-the-avec-karine-leblanc/
LOCATION:Gospel Chapel\, 95\, av. de Port Royal\, Bonaventure\, QC\, Canada
CATEGORIES:Atelier,Causerie
ATTACH;FMTTYPE=image/jpeg:https://baiedeschaleurs.com/wp-content/uploads/2026/04/Salon-du-livre-bona-2026.jpg
GEO:48.167234;-65.8719465
X-APPLE-STRUCTURED-LOCATION;VALUE=URI;X-ADDRESS=Gospel Chapel 95 av. de Port Royal Bonaventure QC Canada;X-APPLE-RADIUS=500;X-TITLE=95\, av. de Port Royal:geo:-65.8719465,48.167234
END:VEVENT
BEGIN:VEVENT
DTSTART;TZID=America/Toronto:20260502T110000
DTEND;TZID=America/Toronto:20260502T120000
DTSTAMP:20260422T184924
CREATED:20260421T193755Z
LAST-MODIFIED:20260421T193755Z
UID:10000278-1777719600-1777723200@baiedeschaleurs.com
SUMMARY:📖 La nouvelle comme genre littéraire
DESCRIPTION:Pourquoi Ariane Gélinas et Philippe Garon aiment-ils écrire des nouvelles? Qu’est-ce que ce genre littéraire leur permet d’explorer? Plongez avec nous dans leur univers à travers cette rencontre animée par Pierre Labrie\, PDG et éditeur chez Soulières.
URL:https://baiedeschaleurs.com/evenement/%f0%9f%93%96-la-nouvelle-comme-genre-litteraire/
LOCATION:Centre récréatif Desjardins de Bonaventure\, 119\, rue Bois-Hébert\, Bonaventure\, Québec\, G0C 1E0\, Canada
CATEGORIES:Causerie
ATTACH;FMTTYPE=image/jpeg:https://baiedeschaleurs.com/wp-content/uploads/2026/04/Salon-du-livre-bona-2026.jpg
END:VEVENT
BEGIN:VEVENT
DTSTART;TZID=America/Toronto:20260502T111500
DTEND;TZID=America/Toronto:20260502T121500
DTSTAMP:20260422T184924
CREATED:20260421T194020Z
LAST-MODIFIED:20260421T194020Z
UID:10000279-1777720500-1777724100@baiedeschaleurs.com
SUMMARY:📖 Du livre à la scène – sortie de résidence
DESCRIPTION:Au bout\, là-haut\n\n\n\n\nLe samedi 2 mai 2026 à 11 h 15\, dans le cadre du Salon du livre de Bonaventure\, plongez au cœur du passage du livre à la scène lors d’un atelier-rencontre unique en compagnie de l’auteure et illustratrice Marianne Dubuc\, du metteur en scène Francis Richard et des interprètes Johanne Lebrun\, Laurie-Anne Langis et Lila Paquette Mourmant\, ainsi que l’assistante à la mise en scène Cindy Gagné. \nSous forme de table ronde-conférence\, cette activité propose un regard privilégié sur le processus d’adaptation théâtrale de la création 2026 du Théâtre de la Petite Marée. Au bout\, là-haut est une adaptation d’Alice Tixidre librement inspirée de l’album jeunesse Le chemin de la montagne de Marianne Dubuc publié aux Éditions Album. \nAu menu : lecture d’extraits et échanges sur les choix artistiques qui transforment une œuvre littéraire en proposition scénique multidisciplinaire. Comment le récit se déploie-t-il dans l’espace? Comment le dialogue\, le mouvement et les images prennent-ils le relais des mots et des illustrations? Comment aborder le travail collaboratif entre auteur et metteur en scène? \nFigure majeure de la littérature jeunesse québécoise\, Marianne Dubuc\, traduite en plus de 30 langues et double lauréate du Prix du Gouverneur général du Canada\, partage son regard sur la vie de ses œuvres au-delà du livre. À ses côtés\, Francis Richard\, formé à l’École nationale de théâtre du Canada et reconnu pour ses créations ancrées dans le territoire gaspésien\, dévoile les coulisses de la mise en scène et son approche sensible et multidisciplinaire. \nUn moment inspirant pour les lecteurs\, spectateurs et toute personne curieuse de découvrir comment une histoire prend vie… là-haut\, sur scène.
URL:https://baiedeschaleurs.com/evenement/%f0%9f%93%96-du-livre-a-la-scene-sortie-de-residence/
LOCATION:Centre récréatif Desjardins de Bonaventure\, 119\, rue Bois-Hébert\, Bonaventure\, Québec\, G0C 1E0\, Canada
CATEGORIES:Causerie
ATTACH;FMTTYPE=image/jpeg:https://baiedeschaleurs.com/wp-content/uploads/2026/04/Salon-du-livre-bona-2026.jpg
END:VEVENT
END:VCALENDAR