BEGIN:VCALENDAR
VERSION:2.0
PRODID:-//Baie des Chaleurs - Bonheur - ECPv6.15.17.1//NONSGML v1.0//EN
CALSCALE:GREGORIAN
METHOD:PUBLISH
X-WR-CALNAME:Baie des Chaleurs - Bonheur
X-ORIGINAL-URL:https://baiedeschaleurs.com
X-WR-CALDESC:Évènements pour Baie des Chaleurs - Bonheur
REFRESH-INTERVAL;VALUE=DURATION:PT1H
X-Robots-Tag:noindex
X-PUBLISHED-TTL:PT1H
BEGIN:VTIMEZONE
TZID:America/Toronto
BEGIN:DAYLIGHT
TZOFFSETFROM:-0500
TZOFFSETTO:-0400
TZNAME:EDT
DTSTART:20250309T070000
END:DAYLIGHT
BEGIN:STANDARD
TZOFFSETFROM:-0400
TZOFFSETTO:-0500
TZNAME:EST
DTSTART:20251102T060000
END:STANDARD
BEGIN:DAYLIGHT
TZOFFSETFROM:-0500
TZOFFSETTO:-0400
TZNAME:EDT
DTSTART:20260308T070000
END:DAYLIGHT
BEGIN:STANDARD
TZOFFSETFROM:-0400
TZOFFSETTO:-0500
TZNAME:EST
DTSTART:20261101T060000
END:STANDARD
BEGIN:DAYLIGHT
TZOFFSETFROM:-0500
TZOFFSETTO:-0400
TZNAME:EDT
DTSTART:20270314T070000
END:DAYLIGHT
BEGIN:STANDARD
TZOFFSETFROM:-0400
TZOFFSETTO:-0500
TZNAME:EST
DTSTART:20271107T060000
END:STANDARD
END:VTIMEZONE
BEGIN:VEVENT
DTSTART;TZID=America/Toronto:20260410T193000
DTEND;TZID=America/Toronto:20260410T213000
DTSTAMP:20260419T131335
CREATED:20260306T165944Z
LAST-MODIFIED:20260306T165944Z
UID:10000232-1775849400-1775856600@baiedeschaleurs.com
SUMMARY:Folichonneries - Le film
DESCRIPTION:Une comédie dramatique d’Éric K. BoulianneUn scénario d’Alexandre Auger\, Eric K. Boulianne1033 min | Canada (Québec)\nAvec Eric K. Boulianne\, Catherine Chabot\, Florence Blain Mbaye.\nFrançois et Julie\, en relation depuis 16 ans et parents de deux enfants\, ne parviennent plus à se rejoindre sexuellement. Ils décident d’ouvrir leur couple afin de vivre des expériences qui leur permettront d’en apprendre davantage sur eux-mêmes.\n\n« C’est cru\, rentre-dedans (avec ou sans « strap-on« )\, et merveilleusement désinhibé. Rarement le terme « jouissif » aura-t-il été aussi approprié. » (François Lévesque\, Le Devoir)\n\n16+
URL:https://baiedeschaleurs.com/evenement/folichonneries-le-film/
LOCATION:Salles de spectacles régionale Desjardins de New Richmond\, 99\, place Suzanne-Guité\, New Richmond\, QC\, G0C 2B0\, Canada
CATEGORIES:Projection
ATTACH;FMTTYPE=image/jpeg:https://baiedeschaleurs.com/wp-content/uploads/2026/03/644688426_1506788148121405_4679966700500793218_n.jpg
ORGANIZER;CN="Cin%C3%A9 Bobine":MAILTO:cinebobine@hotmail.com
GEO:48.1621752;65.864247
X-APPLE-STRUCTURED-LOCATION;VALUE=URI;X-ADDRESS=Salles de spectacles régionale Desjardins de New Richmond 99 place Suzanne-Guité New Richmond QC G0C 2B0 Canada;X-APPLE-RADIUS=500;X-TITLE=99\, place Suzanne-Guité:geo:65.864247,48.1621752
END:VEVENT
BEGIN:VEVENT
DTSTART;TZID=America/Toronto:20260410T200000
DTEND;TZID=America/Toronto:20260410T223000
DTSTAMP:20260419T131335
CREATED:20251215T202403Z
LAST-MODIFIED:20251217T171314Z
UID:10000029-1775851200-1775860200@baiedeschaleurs.com
SUMMARY:Mentana ─ Les Frolics
DESCRIPTION:Mentana s’articule autour de la voix rocailleuse et de la guitare haletante de Robin-Joël Cool\, acadien d’origine au parcours atypique\, ainsi que du piano délicat et de la voix angélique de Viviane Audet. La section rythmique\, composée du batteur Yannick Parent et du bassiste Erik West-Millette (West Trainz) avance langoureusement sur certaines pistes et charge à toute vapeur sur d’autres. \nLe nouveau spectacle de Mentana dans lequel s’entremêlent les chansons du nouvel album en français (sortie prévue pour automne 2025) et les chansons des albums précédents\, est une véritable épopée ! Aux chansons s’ajoutent les riches et réjouissants récits de Robin-Joël – qui a d’ailleurs confirmé ses talents humoristiques avec son personnage de Stéphane dans la série Temps de chien diffusée sur les ondes d’ICI Télé Radio-Canada. \nQue ce soient les histoires de sa mère sorcière-comptable\, de son grand-père Sandy cowboy bohème\, de sa première St-Jean-Baptiste à 15 ans avec la varicelle sur les plaines d’Abraham ou de cette déterminante rencontre avec ce grand astronaute\, Robin-Joël et Mentana font vivre une surprenante aventure musicale à la fois sensible et drôle\, à mi-chemin entre un spectacle de musique et d’humour. \nLe nouveau spectacle de Mentana est à la fois une grande fête et un voyage dépaysant !
URL:https://baiedeschaleurs.com/evenement/mentana-%e2%94%80-les-frolics/
LOCATION:Centre culturel de Paspébiac\, 7\, boul. Gérard D. Lévesque\, Paspébiac\, QC\, Canada
CATEGORIES:Spectacle
ATTACH;FMTTYPE=image/jpeg:https://baiedeschaleurs.com/wp-content/uploads/2025/12/mentana-groupe-robin-joel-cool-viviane-audet-64585-CreditKatherineDufour.jpg
GEO:48.0295973;65.2508575
X-APPLE-STRUCTURED-LOCATION;VALUE=URI;X-ADDRESS=Centre culturel de Paspébiac 7 boul. Gérard D. Lévesque Paspébiac QC Canada;X-APPLE-RADIUS=500;X-TITLE=7\, boul. Gérard D. Lévesque:geo:65.2508575,48.0295973
END:VEVENT
BEGIN:VEVENT
DTSTART;TZID=America/Toronto:20260410T200000
DTEND;TZID=America/Toronto:20260410T223000
DTSTAMP:20260419T131335
CREATED:20251215T180325Z
LAST-MODIFIED:20251217T171353Z
UID:10000012-1775851200-1775860200@baiedeschaleurs.com
SUMMARY:Lou-Adriane Cassidy ─ Triste animal
DESCRIPTION:Après avoir marqué la première moitié de 2025 avec Journal d’un loup-garou\, dont l’album et le spectacle ont récoltés une pluie d’éloges et un succès populaire sans précédent pour l’artiste\, Lou-Adriane Cassidy nous revient avec Triste Animal\, spectacle tiré de son quatrième album du même nom. Sur scène comme sur disque\, ce nouveau chapitre de son travail nous donne un accès inédit à cette interprète d’exception qui\, entourée de cinq musicien.nes\, nous touchera au plus profond de l’âme tant par la mature sobriété de son interprétation que par la frénétique énergie qui font sa réputation depuis toujours. \nLauréate de 12 Félix en 2025 dont artiste féminine de l’année\, spectacle de l’année et autrice-compositrice-interprète de l’année.
URL:https://baiedeschaleurs.com/evenement/lou-adriane-cassidy-%e2%94%80-triste-animal/
LOCATION:Studio du Quai des arts\, 774\, boul. Perron\, Carleton-sur-Mer\, Québec\, G0C 1J0\, Canada
CATEGORIES:Spectacle
ATTACH;FMTTYPE=image/jpeg:https://baiedeschaleurs.com/wp-content/uploads/2025/12/LouAC-max90.jpg
GEO:48.1016841;65.8864334
X-APPLE-STRUCTURED-LOCATION;VALUE=URI;X-ADDRESS=Studio du Quai des arts 774 boul. Perron Carleton-sur-Mer Québec G0C 1J0 Canada;X-APPLE-RADIUS=500;X-TITLE=774\, boul. Perron:geo:65.8864334,48.1016841
END:VEVENT
BEGIN:VEVENT
DTSTART;TZID=America/Toronto:20260411T190000
DTEND;TZID=America/Toronto:20260411T220000
DTSTAMP:20260419T131335
CREATED:20260302T132732Z
LAST-MODIFIED:20260302T132732Z
UID:10000220-1775934000-1775944800@baiedeschaleurs.com
SUMMARY:Caroline Savoie
DESCRIPTION:Caroline Savoie en spectacle\, le 11 avril 2026\, à la Maison de la culture de Nouvelle\n\nCaroline Savoie\, autrice-compositrice-interprète au parcours tissé sur une décennie\, captive avec une sincérité émotive les facettes de l’amour authentique. Inspirée par les classiques de la comédie romantique qui ont façonné son adolescence et sa vingtaine\, elle dévoile sur scène les chansons de son 4e album\, Rom-Com\, issu d’une première expérience à titre de réalisatrice. À la fois grande romantique et indiscutablement comique\, Caroline Savoie nous guide dans ses récits d’amour triomphant\, mais aussi en explorant les intrications des relations plus douloureuses. Être soi-même\, assumer qui nous sommes et faire ses propres choix\, c’est le chemin de toute une vie et la jeune acadienne sait autant naviguer les eaux calmes que les pires tempêtes. Forte d’une expérience scénique qui compte des centaines de spectacles à travers les États-Unis\, l’Europe et ses racines acadiennes\, Caroline Savoie laisse une empreinte indélébile avec sa voix nuancée et ses paroles profondes qui résonnent longtemps après le spectacle.‌\n\nPorte: 19h00Spectacle: 20h00
URL:https://baiedeschaleurs.com/evenement/caroline-savoie/
LOCATION:Maison de la culture de Nouvelle\, 150\, route 132\, Nouvelle\, QC\, Canada
CATEGORIES:Spectacle
ATTACH;FMTTYPE=image/jpeg:https://baiedeschaleurs.com/wp-content/uploads/2026/03/616830481_122143167284963084_9177390175744189997_n.jpg
GEO:48.1357877;-66.3124702
X-APPLE-STRUCTURED-LOCATION;VALUE=URI;X-ADDRESS=Maison de la culture de Nouvelle 150 route 132 Nouvelle QC Canada;X-APPLE-RADIUS=500;X-TITLE=150\, route 132:geo:-66.3124702,48.1357877
END:VEVENT
BEGIN:VEVENT
DTSTART;TZID=America/Toronto:20260411T200000
DTEND;TZID=America/Toronto:20260411T223000
DTSTAMP:20260419T131335
CREATED:20251215T194321Z
LAST-MODIFIED:20251217T171244Z
UID:10000027-1775937600-1775946600@baiedeschaleurs.com
SUMMARY:Théâtre Périscope ─ Je viendrai moins souvent
DESCRIPTION:En 2017\, Camille a 22 ans et emménage à Montréal alors que sa grand-mère Pauline\, âgée de 92\, est placée en CHSLD. Chacune vit en parallèle un déracinement\, une absence de repères. Pendant près de 4 ans\, au rythme de leurs retrouvailles quotidiennes les deux femmes apprivoisent ensemble les pertes cognitives de Pauline\, l’effritement de ses souvenirs et l’inévitable deuil à venir. Poussée par une intuition\, Camille enregistre ses conversations avec sa grand-mère lors de ses visites. \nAprès le poignant balado Quelqu’une d’immortelle\, Camille Paré-Poirier adapte pour la scène ces échanges entre deux femmes si profondément unies\, pierre d’assise de dialogues et de questionnements entre générations. La créatrice s’interroge sur la notion de soin et sur les réalités\, parfois confrontantes\, de la proche-aidance. Grâce à des enregistrements empreints d’affection et de complicité\, les mots et la voix de Pauline continuent de vivre. Et un matériau documentaire devient étonnamment un outil de fiction.
URL:https://baiedeschaleurs.com/evenement/theatre-periscope-%e2%94%80-je-viendrai-moins-souvent/
LOCATION:Salles de spectacles régionale Desjardins de New Richmond\, 99\, place Suzanne-Guité\, New Richmond\, QC\, G0C 2B0\, Canada
CATEGORIES:Spectacle
ATTACH;FMTTYPE=image/jpeg:https://baiedeschaleurs.com/wp-content/uploads/2025/12/web2026_04_11_Je_viendrai_moins_souvent.jpg
GEO:48.1621752;65.864247
X-APPLE-STRUCTURED-LOCATION;VALUE=URI;X-ADDRESS=Salles de spectacles régionale Desjardins de New Richmond 99 place Suzanne-Guité New Richmond QC G0C 2B0 Canada;X-APPLE-RADIUS=500;X-TITLE=99\, place Suzanne-Guité:geo:65.864247,48.1621752
END:VEVENT
BEGIN:VEVENT
DTSTART;TZID=America/Toronto:20260415T200000
DTEND;TZID=America/Toronto:20260415T223000
DTSTAMP:20260419T131335
CREATED:20251215T180648Z
LAST-MODIFIED:20251217T171208Z
UID:10000013-1776283200-1776292200@baiedeschaleurs.com
SUMMARY:Catherine Dorion ─ Sciences Po 101\, Traité d'insoumission à l'usage du vrai monde
DESCRIPTION:Sciences Po 101\, Traité d’insoumission à l’usage du vrai monde est un spectacle drôle\, émouvant et intelligent qui s’inspire du vécu en politique de Catherine Dorion et de son ex-attaché politique Vincent Massé-Gagné\, ainsi que de témoignages anonymes de politiciens\, de journalistes et aussi de gens « ordinaires ». \nPeut-on encore espérer réparer le monde\, ou bien tout est-il déjà foutu ?\nSur scène\, Catherine et son acolyte Vincent fouillent les manières dont le peuple pourrait transformer son sentiment d’impuissance en une puissante boussole de sens qui éloigne la peur et le raccorde à lui-même. Et ils se demandent s’il est possible\, au travers des catastrophes dont regorgent les bulletins de nouvelles\, des agendas remplis à ras bord et de la surcharge informationnelle ambiante\, de renouer avec le désir de se fabriquer un monde meilleur. \nDurant la représentation\, la nature interactive de la pièce permet au public de voter et de s’exprimer de diverses manières.\nSciences Po 101\, Traité d’insoumission à l’usage du vrai monde est écrit par Catherine Dorion et Vincent Massé-Gagné et mis en scène par Alexandre Fecteau.
URL:https://baiedeschaleurs.com/evenement/catherine-dorion-%e2%94%80-sciences-po-101-traite-dinsoumission-a-lusage-du-vrai-monde/
LOCATION:Studio du Quai des arts\, 774\, boul. Perron\, Carleton-sur-Mer\, Québec\, G0C 1J0\, Canada
CATEGORIES:Spectacle
ATTACH;FMTTYPE=image/jpeg:https://baiedeschaleurs.com/wp-content/uploads/2025/12/scpo101-max90.jpg
GEO:48.1016841;65.8864334
X-APPLE-STRUCTURED-LOCATION;VALUE=URI;X-ADDRESS=Studio du Quai des arts 774 boul. Perron Carleton-sur-Mer Québec G0C 1J0 Canada;X-APPLE-RADIUS=500;X-TITLE=774\, boul. Perron:geo:65.8864334,48.1016841
END:VEVENT
BEGIN:VEVENT
DTSTART;TZID=America/Toronto:20260416T200000
DTEND;TZID=America/Toronto:20260416T223000
DTSTAMP:20260419T131335
CREATED:20251215T194633Z
LAST-MODIFIED:20251217T171025Z
UID:10000028-1776369600-1776378600@baiedeschaleurs.com
SUMMARY:Paul Daraîche\, Katia Daraîche\, Émilie Daraîche et Dani Daraîche ─ Daraîche et filles
DESCRIPTION:Daraîche : à lui seul\, le nom est déjà très évocateur. Dans le grand dictionnaire de la musique\, il pourrait se définir ainsi : famille de la Gaspésie ayant marqué la musique country par son authenticité\, sa persévérance et le respect de son public. \nImaginez maintenant quand le patriarche\, Paul\, s’entoure sur scène des « filles » Daraîche :  ses enfants Émilie et Katia ainsi que sa nièce Dani\, fille de la pionnière du country au Québec\, Julie Daraîche. \nEnsemble\, ils représentent ce que le Québec offre de plus authentique à l’héritage country d’ici et d’ailleurs. Le répertoire de la famille Daraîche sur scène s’inspire des grands classiques de la musique country\, comme on les a connus et comme on veut les réentendre. Comptez sur Daraîche & Filles pour poursuivre la tradition.
URL:https://baiedeschaleurs.com/evenement/paul-daraiche-katia-daraiche-emilie-daraiche-et-dani-daraiche-%e2%94%80-daraiche-et-filles/
LOCATION:Salles de spectacles régionale Desjardins de New Richmond\, 99\, place Suzanne-Guité\, New Richmond\, QC\, G0C 2B0\, Canada
CATEGORIES:Spectacle
ATTACH;FMTTYPE=image/jpeg:https://baiedeschaleurs.com/wp-content/uploads/2025/12/web2026_04_16_Daraiche_et_filles.jpg
GEO:48.1621752;65.864247
X-APPLE-STRUCTURED-LOCATION;VALUE=URI;X-ADDRESS=Salles de spectacles régionale Desjardins de New Richmond 99 place Suzanne-Guité New Richmond QC G0C 2B0 Canada;X-APPLE-RADIUS=500;X-TITLE=99\, place Suzanne-Guité:geo:65.864247,48.1621752
END:VEVENT
BEGIN:VEVENT
DTSTART;TZID=America/Toronto:20260416T200000
DTEND;TZID=America/Toronto:20260416T223000
DTSTAMP:20260419T131335
CREATED:20251215T181046Z
LAST-MODIFIED:20251217T171111Z
UID:10000014-1776369600-1776378600@baiedeschaleurs.com
SUMMARY:Dumas ─ Piano Voix Diapos
DESCRIPTION:PIANO VOIX DIAPOS\, c’est Dumas sans guitare\, accompagné de Gabriel Godbout-Castonguay au piano et de diapositives. \nDans une mise en scène minimaliste\, il se raconte en chansons\, revisitant 25 ans de répertoire\, avec sensibilité et toujours cette volonté d’offrir une expérience inoubliable et lumineuse au public. \n1 $ par billet vendu sera remis à la Fondation Cowboys Fringants
URL:https://baiedeschaleurs.com/evenement/dumas-%e2%94%80-piano-voix-diapos/
LOCATION:Studio du Quai des arts\, 774\, boul. Perron\, Carleton-sur-Mer\, Québec\, G0C 1J0\, Canada
CATEGORIES:Spectacle
ATTACH;FMTTYPE=image/jpeg:https://baiedeschaleurs.com/wp-content/uploads/2025/12/dumas-max90.jpg
GEO:48.1016841;65.8864334
X-APPLE-STRUCTURED-LOCATION;VALUE=URI;X-ADDRESS=Studio du Quai des arts 774 boul. Perron Carleton-sur-Mer Québec G0C 1J0 Canada;X-APPLE-RADIUS=500;X-TITLE=774\, boul. Perron:geo:65.8864334,48.1016841
END:VEVENT
BEGIN:VEVENT
DTSTART;TZID=America/Toronto:20260417T190000
DTEND;TZID=America/Toronto:20260417T220000
DTSTAMP:20260419T131335
CREATED:20260302T132942Z
LAST-MODIFIED:20260302T132942Z
UID:10000221-1776452400-1776463200@baiedeschaleurs.com
SUMMARY:Alex & Caro + Philippe Tremblay
DESCRIPTION:Alex et Caro & Philippe Tremblay en spectacle\, le 17 avril 2026\, à la Maison de la culture de Nouvelle\n\nD’une énergie contagieuse\, la musique d’Alex et Caro vous fera voyager à travers leur univers d’une façon « gaspésiennement » originale. Bien assis sur de solides harmonies vocales\, ce spectacle vous fera revisiter les chansons originales du duo et des classiques bien connus.\n\nRévélation country québécoise\, Philippe Tremblay présente un spectacle authentique porté par un succès qui résonne jusqu’en Europe.\n\nPorte: 19h00Spectacle: 20h00
URL:https://baiedeschaleurs.com/evenement/alex-caro-philippe-tremblay/
LOCATION:Maison de la culture de Nouvelle\, 150\, route 132\, Nouvelle\, QC\, Canada
CATEGORIES:Spectacle
ATTACH;FMTTYPE=image/jpeg:https://baiedeschaleurs.com/wp-content/uploads/2026/03/616840452_122143168724963084_1039015433791647141_n.jpg
GEO:48.1357877;-66.3124702
X-APPLE-STRUCTURED-LOCATION;VALUE=URI;X-ADDRESS=Maison de la culture de Nouvelle 150 route 132 Nouvelle QC Canada;X-APPLE-RADIUS=500;X-TITLE=150\, route 132:geo:-66.3124702,48.1357877
END:VEVENT
BEGIN:VEVENT
DTSTART;TZID=America/Toronto:20260418T200000
DTEND;TZID=America/Toronto:20260418T223000
DTSTAMP:20260419T131335
CREATED:20251215T195331Z
LAST-MODIFIED:20251217T170924Z
UID:10000040-1776542400-1776551400@baiedeschaleurs.com
SUMMARY:Regroupement des Femmes de la Côte-de-Gaspé ─ F
DESCRIPTION:F\, pour Femmes\, Filles\, Féministes\, Fières\, Fortes\, Fleurs…\nMais aussi pour Féminicides\, Fuir\, Fusils… \nCe spectacle coup de poing\, qui a mobilisé plus de 150 femmes sur scène et dans l’ombre\, marque les esprits par sa puissance artistique\, émotionnelle et politique. \nF est à la fois un hommage vibrant aux luttes des femmes et un cri d’alarme face aux violences : féminicides\, violence conjugale\, racisme\, colonialisme\, discriminations systémiques. \nInspiré par l’esprit de la Marche mondiale des femmes\, F s’inscrit dans la continuité des grandes luttes sociales et féministes de notre temps. \nDéjà vu par plus de 3 000 spectateur·trices à Gaspé et à Québec\, F fait maintenant sa grande entrée dans la Baie-des-Chaleurs.
URL:https://baiedeschaleurs.com/evenement/regroupement-des-femmes-de-la-cote-de-gaspe-%e2%94%80-f/
LOCATION:Salles de spectacles régionale Desjardins de New Richmond\, 99\, place Suzanne-Guité\, New Richmond\, QC\, G0C 2B0\, Canada
CATEGORIES:Spectacle
ATTACH;FMTTYPE=image/jpeg:https://baiedeschaleurs.com/wp-content/uploads/2025/12/visuel-pour-conference.jpg
GEO:48.1621752;65.864247
X-APPLE-STRUCTURED-LOCATION;VALUE=URI;X-ADDRESS=Salles de spectacles régionale Desjardins de New Richmond 99 place Suzanne-Guité New Richmond QC G0C 2B0 Canada;X-APPLE-RADIUS=500;X-TITLE=99\, place Suzanne-Guité:geo:65.864247,48.1621752
END:VEVENT
BEGIN:VEVENT
DTSTART;TZID=America/Toronto:20260419T130000
DTEND;TZID=America/Toronto:20260419T153000
DTSTAMP:20260419T131335
CREATED:20251215T210641Z
LAST-MODIFIED:20260114T180958Z
UID:10000041-1776603600-1776612600@baiedeschaleurs.com
SUMMARY:Regroupement des Femmes de la Côte-de-Gaspé ─ F
DESCRIPTION:F\, pour Femmes\, Filles\, Féministes\, Fières\, Fortes\, Fleurs…\nMais aussi pour Féminicides\, Fuir\, Fusils… \nCe spectacle coup de poing\, qui a mobilisé plus de 150 femmes sur scène et dans l’ombre\, marque les esprits par sa puissance artistique\, émotionnelle et politique. \nF est à la fois un hommage vibrant aux luttes des femmes et un cri d’alarme face aux violences : féminicides\, violence conjugale\, racisme\, colonialisme\, discriminations systémiques. \nInspiré par l’esprit de la Marche mondiale des femmes\, F s’inscrit dans la continuité des grandes luttes sociales et féministes de notre temps. \nDéjà vu par plus de 3 000 spectateur·trices à Gaspé et à Québec\, F fait maintenant sa grande entrée dans la Baie-des-Chaleurs.
URL:https://baiedeschaleurs.com/evenement/regroupement-des-femmes-de-la-cote-de-gaspe-%e2%94%80-f-2/
LOCATION:Salles de spectacles régionale Desjardins de New Richmond\, 99\, place Suzanne-Guité\, New Richmond\, QC\, G0C 2B0\, Canada
CATEGORIES:Spectacle
ATTACH;FMTTYPE=image/jpeg:https://baiedeschaleurs.com/wp-content/uploads/2025/12/visuel-pour-conference.jpg
GEO:48.1621752;65.864247
X-APPLE-STRUCTURED-LOCATION;VALUE=URI;X-ADDRESS=Salles de spectacles régionale Desjardins de New Richmond 99 place Suzanne-Guité New Richmond QC G0C 2B0 Canada;X-APPLE-RADIUS=500;X-TITLE=99\, place Suzanne-Guité:geo:65.864247,48.1621752
END:VEVENT
BEGIN:VEVENT
DTSTART;TZID=America/Toronto:20260420T190000
DTEND;TZID=America/Toronto:20260420T203000
DTSTAMP:20260419T131335
CREATED:20260331T113523Z
LAST-MODIFIED:20260331T113523Z
UID:10000242-1776711600-1776717000@baiedeschaleurs.com
SUMMARY:Mont Roz à la Gospel Chapel
DESCRIPTION:Après une semaine de résidence à la Pointe Sec à Mont-Louis et quelques concerts sur le côté nord\, Mont Roz vient nous partager son travail et son talent. Un concert d’une grande qualité et tout en beauté.Mont Roz est un duo harpe-flûte fondé en 2015 par Cécile Delage et François-Xavier Dueymes\, qui mêle les traditions irlandaises\, bretonnes et québécoises. Le nom du duo\, inspiré du mot breton « Roz » (rose) et de leur quartier montréalais de Rosemont\, reflète à la fois leurs racines bretonnes et leur ancrage local. Ensemble ou au sein d’autres projets\, Cécile et François-Xavier sont très actifs sur la scène traditionnelle québécoise. Mont Roz propose aujourd’hui un répertoire vivant qui mêle compositions originales\, musiques traditionnelles et musique électronique\, taillé autant pour la scène que pour la danse.\n\nCécile Delage :https://www.ceciledelage.com/about\nFrançois-Xavier Dueymes :https://www.kavaz.ca/\nVoici quelques vidéos de leur musique en spectacle:https://youtu.be/FYZ0ZwyEsqIhttps://youtu.be/rNsDEn3lpXQ\n\nLes billets seront en vente à la porte pour 25$.\nPour info écrire à: Dans Cuisine Trad Gaspésie ou communiquez avec Martin Henry au 514-980-6115
URL:https://baiedeschaleurs.com/evenement/mont-roz-a-la-gospel-chapel/
LOCATION:Gospel Chapel\, 95\, av. de Port Royal\, Bonaventure\, QC\, Canada
CATEGORIES:Spectacle
ATTACH;FMTTYPE=image/jpeg:https://baiedeschaleurs.com/wp-content/uploads/2026/03/641434932_902951665810720_300048697551100284_n.jpg
GEO:48.167234;-65.8719465
X-APPLE-STRUCTURED-LOCATION;VALUE=URI;X-ADDRESS=Gospel Chapel 95 av. de Port Royal Bonaventure QC Canada;X-APPLE-RADIUS=500;X-TITLE=95\, av. de Port Royal:geo:-65.8719465,48.167234
END:VEVENT
END:VCALENDAR