BEGIN:VCALENDAR
VERSION:2.0
PRODID:-//Baie des Chaleurs - Bonheur - ECPv6.15.17.1//NONSGML v1.0//EN
CALSCALE:GREGORIAN
METHOD:PUBLISH
X-WR-CALNAME:Baie des Chaleurs - Bonheur
X-ORIGINAL-URL:https://baiedeschaleurs.com
X-WR-CALDESC:Évènements pour Baie des Chaleurs - Bonheur
REFRESH-INTERVAL;VALUE=DURATION:PT1H
X-Robots-Tag:noindex
X-PUBLISHED-TTL:PT1H
BEGIN:VTIMEZONE
TZID:America/Toronto
BEGIN:DAYLIGHT
TZOFFSETFROM:-0500
TZOFFSETTO:-0400
TZNAME:EDT
DTSTART:20250309T070000
END:DAYLIGHT
BEGIN:STANDARD
TZOFFSETFROM:-0400
TZOFFSETTO:-0500
TZNAME:EST
DTSTART:20251102T060000
END:STANDARD
BEGIN:DAYLIGHT
TZOFFSETFROM:-0500
TZOFFSETTO:-0400
TZNAME:EDT
DTSTART:20260308T070000
END:DAYLIGHT
BEGIN:STANDARD
TZOFFSETFROM:-0400
TZOFFSETTO:-0500
TZNAME:EST
DTSTART:20261101T060000
END:STANDARD
BEGIN:DAYLIGHT
TZOFFSETFROM:-0500
TZOFFSETTO:-0400
TZNAME:EDT
DTSTART:20270314T070000
END:DAYLIGHT
BEGIN:STANDARD
TZOFFSETFROM:-0400
TZOFFSETTO:-0500
TZNAME:EST
DTSTART:20271107T060000
END:STANDARD
END:VTIMEZONE
BEGIN:VEVENT
DTSTART;TZID=America/Toronto:20260305T190000
DTEND;TZID=America/Toronto:20260305T213000
DTSTAMP:20260419T081829
CREATED:20251215T172537Z
LAST-MODIFIED:20251217T172914Z
UID:10000008-1772737200-1772746200@baiedeschaleurs.com
SUMMARY:José Navas ─ Aves
DESCRIPTION:Le grand chorégraphe-soliste d’origine vénézuélienne José Navas continue de danser sa vie sur scène\, comme il le fait depuis quarante ans. \nAVES se déploie dans une suite de solos qui invitent le public à une rencontre intime avec l’artiste dans un dévoilement inédit de son histoire personnelle avec le chorégraphe Bill Douglas. Les deux artistes se sont rencontrés et ont vécu ensemble à New York\, puis à Montréal. Ils ont partagé leur vie et leur art jusqu’à la mort de Douglas des suites du sida en 1996. \nNavas s’engage corps et âme sur une simple scène ouverte\, mettant en mouvement des musiques de Bach\, PJ Harvey\, Billie Holliday\, Dorothy Moore\, entre autres. AVES est un véritable rituel de danse lumineux qui célèbre l’amour et les arts. Une façon pour Navas de rendre hommage à Douglas. \nAVES est récipiendaire du prix RIDEAU / Maisons de la culture 2023
URL:https://baiedeschaleurs.com/evenement/jose-navas-%e2%94%80-aves/
LOCATION:Studio du Quai des arts\, 774\, boul. Perron\, Carleton-sur-Mer\, Québec\, G0C 1J0\, Canada
CATEGORIES:Spectacle
ATTACH;FMTTYPE=image/jpeg:https://baiedeschaleurs.com/wp-content/uploads/2025/12/586303992_1248566190636773_8594547434067946037_n.jpg
GEO:48.1016841;65.8864334
X-APPLE-STRUCTURED-LOCATION;VALUE=URI;X-ADDRESS=Studio du Quai des arts 774 boul. Perron Carleton-sur-Mer Québec G0C 1J0 Canada;X-APPLE-RADIUS=500;X-TITLE=774\, boul. Perron:geo:65.8864334,48.1016841
END:VEVENT
BEGIN:VEVENT
DTSTART;TZID=America/Toronto:20260305T190000
DTEND;TZID=America/Toronto:20260305T230000
DTSTAMP:20260419T081829
CREATED:20251215T214717Z
LAST-MODIFIED:20251217T172831Z
UID:10000050-1772737200-1772751600@baiedeschaleurs.com
SUMMARY:Soirée de crible
DESCRIPTION:TOURNOI DE CRIBLE  \nDébut à 19H | Inscriptions à partir de 18h30 .Deux fois par mois\, se tiendra au Petit Chamonix\, un tournoi de crible en équipe de 2 personnes. Les inscriptions se font sur place lors de la soirée à partir de 18h30. L’inscription est au coût de 10$ par personne. Durant le tournoi\, un service de bar sera disponible. Tirage et prix à gagner. Surveillez notre programmation pour connaître toutes les dates.  Le bar du Petit Chamonix\, est également ouvert pour la population générale lors de cette soirée. 18 ans et plus..QUE LA MEILLEURE ÉQUIPE GAGNE! —CRIBBAGE TOURNEMENT\nStarting at 7 PM |𝗥𝗲𝗴𝗶𝘀𝘁𝗿𝗮𝘁𝗶𝗼𝗻𝘀 𝗳𝗿𝗼𝗺 𝟲𝗵𝟯𝟬𝗣𝗠\n.Twice a month\, a cribbage tournament will be held in Petit Chamonix in teams of 2 people. Registrations are made on site during the evening from 6h30pm. Registration is $10 per person. During the tournament\, a bar service will be available. Draw and prizes to be won. Keep an eye on our schedule for all dates.  The Petit Chamonix bar is also open to the general public during this evening. 18 years and older..MAY THE BEST TEAM WIN! 
URL:https://baiedeschaleurs.com/evenement/soiree-de-crible-5/
LOCATION:Le Petit Chamonix\, 44\, rue de Chamonix\, Matapédia\, QC\, Canada
CATEGORIES:Activité ludique
ATTACH;FMTTYPE=image/jpeg:https://baiedeschaleurs.com/wp-content/uploads/2025/12/site-mlp-2.jpeg
GEO:48.167234;-65.8719465
X-APPLE-STRUCTURED-LOCATION;VALUE=URI;X-ADDRESS=Le Petit Chamonix 44 rue de Chamonix Matapédia QC Canada;X-APPLE-RADIUS=500;X-TITLE=44\, rue de Chamonix:geo:-65.8719465,48.167234
END:VEVENT
END:VCALENDAR